BEGIN:VCALENDAR
VERSION:2.0
PRODID:-//Baha Mar - ECPv6.15.17.1//NONSGML v1.0//EN
CALSCALE:GREGORIAN
METHOD:PUBLISH
X-WR-CALNAME:Baha Mar
X-ORIGINAL-URL:https://bahamar.com
X-WR-CALDESC:Events for Baha Mar
REFRESH-INTERVAL;VALUE=DURATION:PT1H
X-Robots-Tag:noindex
X-PUBLISHED-TTL:PT1H
BEGIN:VTIMEZONE
TZID:America/New_York
BEGIN:DAYLIGHT
TZOFFSETFROM:-0500
TZOFFSETTO:-0400
TZNAME:EDT
DTSTART:20200308T070000
END:DAYLIGHT
BEGIN:STANDARD
TZOFFSETFROM:-0400
TZOFFSETTO:-0500
TZNAME:EST
DTSTART:20201101T060000
END:STANDARD
BEGIN:DAYLIGHT
TZOFFSETFROM:-0500
TZOFFSETTO:-0400
TZNAME:EDT
DTSTART:20210314T070000
END:DAYLIGHT
BEGIN:STANDARD
TZOFFSETFROM:-0400
TZOFFSETTO:-0500
TZNAME:EST
DTSTART:20211107T060000
END:STANDARD
BEGIN:DAYLIGHT
TZOFFSETFROM:-0500
TZOFFSETTO:-0400
TZNAME:EDT
DTSTART:20220313T070000
END:DAYLIGHT
BEGIN:STANDARD
TZOFFSETFROM:-0400
TZOFFSETTO:-0500
TZNAME:EST
DTSTART:20221106T060000
END:STANDARD
BEGIN:DAYLIGHT
TZOFFSETFROM:-0500
TZOFFSETTO:-0400
TZNAME:EDT
DTSTART:20230312T070000
END:DAYLIGHT
BEGIN:STANDARD
TZOFFSETFROM:-0400
TZOFFSETTO:-0500
TZNAME:EST
DTSTART:20231105T060000
END:STANDARD
BEGIN:DAYLIGHT
TZOFFSETFROM:-0500
TZOFFSETTO:-0400
TZNAME:EDT
DTSTART:20240310T070000
END:DAYLIGHT
BEGIN:STANDARD
TZOFFSETFROM:-0400
TZOFFSETTO:-0500
TZNAME:EST
DTSTART:20241103T060000
END:STANDARD
END:VTIMEZONE
BEGIN:VEVENT
DTSTART;TZID=America/New_York:20231214T080000
DTEND;TZID=America/New_York:20231214T170000
DTSTAMP:20260421T093854
CREATED:20231023T030349Z
LAST-MODIFIED:20231106T221937Z
UID:134290-1702540800-1702573200@bahamar.com
SUMMARY:ROYAL BLUE - Tee Times Available
DESCRIPTION:Set in Nassau\, The Bahamas\, the front nine of Baha Mar’s Jack Nicklaus Signature Royal Blue golf course features dramatic views of undulating fairways and rolling white sand dunes. The back-nine transports you to limestone “moonscapes” and elevation changes\, making Royal Blue a stunning golf course to see — and a thrilling challenge to play. Each morning our grounds crew place tee locations on the Royal Blue course according to the changing Nassau\, The Bahamas weather and playing conditions\, ensuring a unique experience each time you play.
URL:https://bahamar.com/activity/royal-blue-tee-times-available/2023-12-14/
LOCATION:Royal Blue Golf Course
CATEGORIES:Sports and Fitness
END:VEVENT
BEGIN:VEVENT
DTSTART;TZID=America/New_York:20220103T090000
DTEND;TZID=America/New_York:20220103T100000
DTSTAMP:20260421T093854
CREATED:20211201T041539Z
LAST-MODIFIED:20211201T041539Z
UID:56155-1641200400-1641204000@bahamar.com
SUMMARY:1 Hour Putting Clinic | Age 16+
DESCRIPTION:(4-8 players) Join us for a putting clinic focusing on setup\, impact\, alignment and distance control. Learn what will help you putt better to lower your scores.
URL:https://bahamar.com/activity/1-hour-putting-clinic-age-16-3/
LOCATION:Royal Blue Golf Course
CATEGORIES:Sports and Fitness
END:VEVENT
BEGIN:VEVENT
DTSTART;TZID=America/New_York:20211224T090000
DTEND;TZID=America/New_York:20211224T100000
DTSTAMP:20260421T093854
CREATED:20211201T041738Z
LAST-MODIFIED:20211201T041738Z
UID:56158-1640336400-1640340000@bahamar.com
SUMMARY:1.5 Hour Short Course Clinic | Age 16+
DESCRIPTION:(4-8 players) Join us for a short game 50 yard challenge. We will discuss the best strategies for making the lowest scores possible.
URL:https://bahamar.com/activity/1-5-hour-short-course-clinic-age-16/
LOCATION:Royal Blue Golf Course
CATEGORIES:Sports and Fitness
END:VEVENT
BEGIN:VEVENT
DTSTART;TZID=America/New_York:20211223T090000
DTEND;TZID=America/New_York:20211223T100000
DTSTAMP:20260421T093854
CREATED:20211201T041738Z
LAST-MODIFIED:20211201T041738Z
UID:56157-1640250000-1640253600@bahamar.com
SUMMARY:1 Hour Chipping and Pitching Clinic | Age 16+
DESCRIPTION:(4-8 players) Learn how to use multiple clubs in your bag to get the ball close to the hole. We will practice a variation of shots and help you understand how to choose the best shot based on the conditions.
URL:https://bahamar.com/activity/1-hour-chipping-and-pitching-clinic-age-16-2/
LOCATION:Royal Blue Golf Course
CATEGORIES:Sports and Fitness
END:VEVENT
BEGIN:VEVENT
DTSTART;TZID=America/New_York:20211222T090000
DTEND;TZID=America/New_York:20211222T100000
DTSTAMP:20260421T093854
CREATED:20211201T041539Z
LAST-MODIFIED:20211201T041539Z
UID:56154-1640163600-1640167200@bahamar.com
SUMMARY:1 Hour Putting Clinic | Age 16+
DESCRIPTION:(4-8 players) Join us for a putting clinic focusing on setup\, impact\, alignment and distance control. Learn what will help you putt better to lower your scores.
URL:https://bahamar.com/activity/1-hour-putting-clinic-age-16-2/
LOCATION:Royal Blue Golf Course
CATEGORIES:Sports and Fitness
END:VEVENT
BEGIN:VEVENT
DTSTART;TZID=America/New_York:20211221T090000
DTEND;TZID=America/New_York:20211221T100000
DTSTAMP:20260421T093854
CREATED:20211201T041737Z
LAST-MODIFIED:20211201T041737Z
UID:56156-1640077200-1640080800@bahamar.com
SUMMARY:1 Hour Chipping and Pitching Clinic | Age 16+
DESCRIPTION:(4-8 players) Learn how to use multiple clubs in your bag to get the ball close to the hole. We will practice a variation of shots and help you understand how to choose the best shot based on the conditions.
URL:https://bahamar.com/activity/1-hour-chipping-and-pitching-clinic-age-16/
LOCATION:Royal Blue Golf Course
CATEGORIES:Sports and Fitness
END:VEVENT
BEGIN:VEVENT
DTSTART;TZID=America/New_York:20211220T090000
DTEND;TZID=America/New_York:20211220T100000
DTSTAMP:20260421T093854
CREATED:20211201T041538Z
LAST-MODIFIED:20211201T041538Z
UID:56153-1639990800-1639994400@bahamar.com
SUMMARY:1 Hour Putting Clinic | Age 16+
DESCRIPTION:(4-8 players) Join us for a putting clinic focusing on setup\, impact\, alignment and distance control. Learn what will help you putt better to lower your scores.
URL:https://bahamar.com/activity/1-hour-putting-clinic-age-16/
LOCATION:Royal Blue Golf Course
CATEGORIES:Sports and Fitness
END:VEVENT
END:VCALENDAR